BEGIN:VCALENDAR
VERSION:2.0
PRODID:icalendar-ruby
CALSCALE:GREGORIAN
METHOD:PUBLISH
BEGIN:VEVENT
DTSTAMP:20260423T160319Z
UID:7-438461@betelphoenix.com
DTSTART;VALUE=DATE:20261026
DTEND;VALUE=DATE:20261030
CLASS:PUBLIC
CREATED:20260423T070603
DESCRIPTION:
LAST-MODIFIED:20260423T070603
LOCATION:
SUMMARY:Grupos Conexión
URL;VALUE=URI:https://www.betelphoenix.com/events/grupos-conexion/2026-10-2
 6
END:VEVENT
END:VCALENDAR
