BEGIN:VCALENDAR
VERSION:2.0
PRODID:icalendar-ruby
CALSCALE:GREGORIAN
METHOD:PUBLISH
BEGIN:VEVENT
DTSTAMP:20260423T144035Z
UID:7-438460@betelphoenix.com
DTSTART;VALUE=DATE:20261019
DTEND;VALUE=DATE:20261023
CLASS:PUBLIC
CREATED:20260423T070603
DESCRIPTION:
LAST-MODIFIED:20260423T070603
LOCATION:
SUMMARY:Grupos Conexión
URL;VALUE=URI:https://www.betelphoenix.com/events/grupos-conexion/2026-10-1
 9
END:VEVENT
END:VCALENDAR
