BEGIN:VCALENDAR
VERSION:2.0
PRODID:icalendar-ruby
CALSCALE:GREGORIAN
METHOD:PUBLISH
BEGIN:VEVENT
DTSTAMP:20260423T112420Z
UID:7-438185@betelphoenix.com
DTSTART;VALUE=DATE:20261005
DTEND;VALUE=DATE:20261009
CLASS:PUBLIC
CREATED:20260423T041141
DESCRIPTION:
LAST-MODIFIED:20260423T041141
LOCATION:
SUMMARY:Grupos Conexión
URL;VALUE=URI:https://www.betelphoenix.com/events/grupos-conexion/2026-10-0
 5
END:VEVENT
END:VCALENDAR
