BEGIN:VCALENDAR
VERSION:2.0
PRODID:icalendar-ruby
CALSCALE:GREGORIAN
METHOD:PUBLISH
BEGIN:VEVENT
DTSTAMP:20260423T095420Z
UID:7-437911@betelphoenix.com
DTSTART;VALUE=DATE:20260928
DTEND;VALUE=DATE:20261002
CLASS:PUBLIC
CREATED:20260422T184208
DESCRIPTION:
LAST-MODIFIED:20260422T184208
LOCATION:
SUMMARY:Grupos Conexión
URL;VALUE=URI:https://www.betelphoenix.com/events/grupos-conexion/2026-09-2
 8
END:VEVENT
END:VCALENDAR
