BEGIN:VCALENDAR
VERSION:2.0
PRODID:icalendar-ruby
CALSCALE:GREGORIAN
METHOD:PUBLISH
BEGIN:VEVENT
DTSTAMP:20260423T082245Z
UID:7-437910@betelphoenix.com
DTSTART;VALUE=DATE:20260921
DTEND;VALUE=DATE:20260925
CLASS:PUBLIC
CREATED:20260422T184208
DESCRIPTION:
LAST-MODIFIED:20260422T184208
LOCATION:
SUMMARY:Grupos Conexión
URL;VALUE=URI:https://www.betelphoenix.com/events/grupos-conexion/2026-09-2
 1
END:VEVENT
END:VCALENDAR
