BEGIN:VCALENDAR
VERSION:2.0
PRODID:icalendar-ruby
CALSCALE:GREGORIAN
METHOD:PUBLISH
BEGIN:VEVENT
DTSTAMP:20260421T193824Z
UID:7-435725@betelphoenix.com
DTSTART;VALUE=DATE:20260914
DTEND;VALUE=DATE:20260918
CLASS:PUBLIC
CREATED:20260421T115527
DESCRIPTION:
LAST-MODIFIED:20260421T115527
LOCATION:
SUMMARY:Grupos Conexión
URL;VALUE=URI:https://www.betelphoenix.com/events/grupos-conexion/2026-09-1
 4
END:VEVENT
END:VCALENDAR
