BEGIN:VCALENDAR
VERSION:2.0
PRODID:icalendar-ruby
CALSCALE:GREGORIAN
METHOD:PUBLISH
BEGIN:VEVENT
DTSTAMP:20260421T180658Z
UID:7-435451@betelphoenix.com
DTSTART;VALUE=DATE:20260907
DTEND;VALUE=DATE:20260911
CLASS:PUBLIC
CREATED:20260421T091730
DESCRIPTION:
LAST-MODIFIED:20260421T091730
LOCATION:
SUMMARY:Grupos Conexión
URL;VALUE=URI:https://www.betelphoenix.com/events/grupos-conexion/2026-09-0
 7
END:VEVENT
END:VCALENDAR
