BEGIN:VCALENDAR
VERSION:2.0
PRODID:icalendar-ruby
CALSCALE:GREGORIAN
METHOD:PUBLISH
BEGIN:VEVENT
DTSTAMP:20260421T164547Z
UID:7-435450@betelphoenix.com
DTSTART;VALUE=DATE:20260831
DTEND;VALUE=DATE:20260904
CLASS:PUBLIC
CREATED:20260421T091730
DESCRIPTION:
LAST-MODIFIED:20260421T091730
LOCATION:
SUMMARY:Grupos Conexión
URL;VALUE=URI:https://www.betelphoenix.com/events/grupos-conexion/2026-08-3
 1
END:VEVENT
END:VCALENDAR
