BEGIN:VCALENDAR
VERSION:2.0
PRODID:icalendar-ruby
CALSCALE:GREGORIAN
METHOD:PUBLISH
BEGIN:VEVENT
DTSTAMP:20260421T152333Z
UID:7-435176@betelphoenix.com
DTSTART;VALUE=DATE:20260824
DTEND;VALUE=DATE:20260828
CLASS:PUBLIC
CREATED:20260421T063941
DESCRIPTION:
LAST-MODIFIED:20260421T063941
LOCATION:
SUMMARY:Grupos Conexión
URL;VALUE=URI:https://www.betelphoenix.com/events/grupos-conexion/2026-08-2
 4
END:VEVENT
END:VCALENDAR
