BEGIN:VCALENDAR
VERSION:2.0
PRODID:icalendar-ruby
CALSCALE:GREGORIAN
METHOD:PUBLISH
BEGIN:VEVENT
DTSTAMP:20260421T140007Z
UID:7-435175@betelphoenix.com
DTSTART;VALUE=DATE:20260817
DTEND;VALUE=DATE:20260821
CLASS:PUBLIC
CREATED:20260421T063941
DESCRIPTION:
LAST-MODIFIED:20260421T063941
LOCATION:
SUMMARY:Grupos Conexión
URL;VALUE=URI:https://www.betelphoenix.com/events/grupos-conexion/2026-08-1
 7
END:VEVENT
END:VCALENDAR
