BEGIN:VCALENDAR
VERSION:2.0
PRODID:icalendar-ruby
CALSCALE:GREGORIAN
METHOD:PUBLISH
BEGIN:VEVENT
DTSTAMP:20260421T122903Z
UID:7-434901@betelphoenix.com
DTSTART;VALUE=DATE:20260810
DTEND;VALUE=DATE:20260814
CLASS:PUBLIC
CREATED:20260421T040358
DESCRIPTION:
LAST-MODIFIED:20260421T040358
LOCATION:
SUMMARY:Grupos Conexión
URL;VALUE=URI:https://www.betelphoenix.com/events/grupos-conexion/2026-08-1
 0
END:VEVENT
END:VCALENDAR
