BEGIN:VCALENDAR
VERSION:2.0
PRODID:icalendar-ruby
CALSCALE:GREGORIAN
METHOD:PUBLISH
BEGIN:VEVENT
DTSTAMP:20260421T094444Z
UID:7-434626@betelphoenix.com
DTSTART;VALUE=DATE:20260727
DTEND;VALUE=DATE:20260731
CLASS:PUBLIC
CREATED:20260420T165747
DESCRIPTION:
LAST-MODIFIED:20260420T165747
LOCATION:
SUMMARY:Grupos Conexión
URL;VALUE=URI:https://www.betelphoenix.com/events/grupos-conexion/2026-07-2
 7
END:VEVENT
END:VCALENDAR
