BEGIN:VCALENDAR
VERSION:2.0
PRODID:icalendar-ruby
CALSCALE:GREGORIAN
METHOD:PUBLISH
BEGIN:VEVENT
DTSTAMP:20260421T083413Z
UID:7-434625@betelphoenix.com
DTSTART;VALUE=DATE:20260720
DTEND;VALUE=DATE:20260724
CLASS:PUBLIC
CREATED:20260420T165747
DESCRIPTION:
LAST-MODIFIED:20260420T165747
LOCATION:
SUMMARY:Grupos Conexión
URL;VALUE=URI:https://www.betelphoenix.com/events/grupos-conexion/2026-07-2
 0
END:VEVENT
END:VCALENDAR
